BEGIN:VCALENDAR
VERSION:2.0
PRODID:-//Haugen Consulting Group - ECPv6.15.20//NONSGML v1.0//EN
CALSCALE:GREGORIAN
METHOD:PUBLISH
X-WR-CALNAME:Haugen Consulting Group
X-ORIGINAL-URL:https://www.thehaugengroup.com
X-WR-CALDESC:Events for Haugen Consulting Group
REFRESH-INTERVAL;VALUE=DURATION:PT1H
X-Robots-Tag:noindex
X-PUBLISHED-TTL:PT1H
BEGIN:VTIMEZONE
TZID:America/Denver
BEGIN:DAYLIGHT
TZOFFSETFROM:-0700
TZOFFSETTO:-0600
TZNAME:MDT
DTSTART:20240310T090000
END:DAYLIGHT
BEGIN:STANDARD
TZOFFSETFROM:-0600
TZOFFSETTO:-0700
TZNAME:MST
DTSTART:20241103T080000
END:STANDARD
BEGIN:DAYLIGHT
TZOFFSETFROM:-0700
TZOFFSETTO:-0600
TZNAME:MDT
DTSTART:20250309T090000
END:DAYLIGHT
BEGIN:STANDARD
TZOFFSETFROM:-0600
TZOFFSETTO:-0700
TZNAME:MST
DTSTART:20251102T080000
END:STANDARD
BEGIN:DAYLIGHT
TZOFFSETFROM:-0700
TZOFFSETTO:-0600
TZNAME:MDT
DTSTART:20260308T090000
END:DAYLIGHT
BEGIN:STANDARD
TZOFFSETFROM:-0600
TZOFFSETTO:-0700
TZNAME:MST
DTSTART:20261101T080000
END:STANDARD
END:VTIMEZONE
BEGIN:VEVENT
DTSTART;VALUE=DATE:20250828
DTEND;VALUE=DATE:20250829
DTSTAMP:20260420T020417
CREATED:20250327T222831Z
LAST-MODIFIED:20250327T222831Z
UID:84271-1756339200-1756425599@www.thehaugengroup.com
SUMMARY:Breaking News: 2026 ICD-10-CM Coding Update
DESCRIPTION:Get ready for our bestselling webinar! Fiscal year 2026 is right around the corner. Start preparing early for the changes with this informative webinar that not only covers what is changing\, but also why. We also point out changes to the ICD-10-CM Official Guidelines for Coding and Reporting. This is a great introduction to the codes that will become effective October 1\, 2025 – you can’t afford to miss it!
URL:https://www.thehaugengroup.com/event/breaking-news-2026-icd-10-cm-coding-update/
LOCATION:On-Demand Webinar
CATEGORIES:Education Release
END:VEVENT
END:VCALENDAR