BEGIN:VCALENDAR
VERSION:2.0
PRODID:-//Haugen Consulting Group - ECPv6.15.20//NONSGML v1.0//EN
CALSCALE:GREGORIAN
METHOD:PUBLISH
X-WR-CALNAME:Haugen Consulting Group
X-ORIGINAL-URL:https://www.thehaugengroup.com
X-WR-CALDESC:Events for Haugen Consulting Group
REFRESH-INTERVAL;VALUE=DURATION:PT1H
X-Robots-Tag:noindex
X-PUBLISHED-TTL:PT1H
BEGIN:VTIMEZONE
TZID:America/Denver
BEGIN:DAYLIGHT
TZOFFSETFROM:-0700
TZOFFSETTO:-0600
TZNAME:MDT
DTSTART:20230312T090000
END:DAYLIGHT
BEGIN:STANDARD
TZOFFSETFROM:-0600
TZOFFSETTO:-0700
TZNAME:MST
DTSTART:20231105T080000
END:STANDARD
BEGIN:DAYLIGHT
TZOFFSETFROM:-0700
TZOFFSETTO:-0600
TZNAME:MDT
DTSTART:20240310T090000
END:DAYLIGHT
BEGIN:STANDARD
TZOFFSETFROM:-0600
TZOFFSETTO:-0700
TZNAME:MST
DTSTART:20241103T080000
END:STANDARD
BEGIN:DAYLIGHT
TZOFFSETFROM:-0700
TZOFFSETTO:-0600
TZNAME:MDT
DTSTART:20250309T090000
END:DAYLIGHT
BEGIN:STANDARD
TZOFFSETFROM:-0600
TZOFFSETTO:-0700
TZNAME:MST
DTSTART:20251102T080000
END:STANDARD
END:VTIMEZONE
BEGIN:VEVENT
DTSTART;VALUE=DATE:20240418
DTEND;VALUE=DATE:20240419
DTSTAMP:20260424T031301
CREATED:20231228T210850Z
LAST-MODIFIED:20231228T210850Z
UID:76872-1713398400-1713484799@www.thehaugengroup.com
SUMMARY:On-Demand Webinar Release: Preventing Errors When Assigning AWV and Annual Physical Codes
DESCRIPTION:Preventive visits\, Annual physicals\, Annual wellness visits\, AWVs are all the same thing right? Not so fast. These terms are often used interchangeably when they should not be. A preventive medicine visit and an AWV are very different things. In this webinar we explore the differences in these preventive services\, review the requirements for each and review documentation examples to get you on your way to understanding which code should be used. \nObjectives: \n\nDefine an annual physical and preventive medicine visit\nDefine an IPPE and AWV service\nIdentify the differences between each types of preventive service\nRecognize which code should be applied based on service provided and documented\n\nPresenter: Emily Lomaquahu\, CPC\, CPMA\, CEDC
URL:https://www.thehaugengroup.com/event/on-demand-webinar-release-preventing-errors-when-assigning-awv-and-annual-physical-codes/
CATEGORIES:Education Release
END:VEVENT
END:VCALENDAR