BEGIN:VCALENDAR
VERSION:2.0
PRODID:-//Haugen Consulting Group - ECPv6.15.20//NONSGML v1.0//EN
CALSCALE:GREGORIAN
METHOD:PUBLISH
X-WR-CALNAME:Haugen Consulting Group
X-ORIGINAL-URL:https://www.thehaugengroup.com
X-WR-CALDESC:Events for Haugen Consulting Group
REFRESH-INTERVAL;VALUE=DURATION:PT1H
X-Robots-Tag:noindex
X-PUBLISHED-TTL:PT1H
BEGIN:VTIMEZONE
TZID:America/Denver
BEGIN:DAYLIGHT
TZOFFSETFROM:-0700
TZOFFSETTO:-0600
TZNAME:MDT
DTSTART:20230312T090000
END:DAYLIGHT
BEGIN:STANDARD
TZOFFSETFROM:-0600
TZOFFSETTO:-0700
TZNAME:MST
DTSTART:20231105T080000
END:STANDARD
BEGIN:DAYLIGHT
TZOFFSETFROM:-0700
TZOFFSETTO:-0600
TZNAME:MDT
DTSTART:20240310T090000
END:DAYLIGHT
BEGIN:STANDARD
TZOFFSETFROM:-0600
TZOFFSETTO:-0700
TZNAME:MST
DTSTART:20241103T080000
END:STANDARD
BEGIN:DAYLIGHT
TZOFFSETFROM:-0700
TZOFFSETTO:-0600
TZNAME:MDT
DTSTART:20250309T090000
END:DAYLIGHT
BEGIN:STANDARD
TZOFFSETFROM:-0600
TZOFFSETTO:-0700
TZNAME:MST
DTSTART:20251102T080000
END:STANDARD
END:VTIMEZONE
BEGIN:VEVENT
DTSTART;TZID=America/Denver:20240321T083500
DTEND;TZID=America/Denver:20240321T093500
DTSTAMP:20260424T020903
CREATED:20240202T171353Z
LAST-MODIFIED:20240202T171353Z
UID:77246-1711010100-1711013700@www.thehaugengroup.com
SUMMARY:Speaking Engagement: Asking Critical Questions: An In-Depth Review of (Profee) Critical Care
DESCRIPTION:Join Deanna Upston at ILHIMA’s Annual Meeting! \nThis session includes a thorough review of the critical care guidelines\, definitions as well as the difference between CMS and CPT time thresholds. We will navigate through the complexity of split/shared services and look at some real-world examples. \nLearning Objectives: \n\nDefine critical care guidelines.\nExplain the definition and intent of critical care services.\nExplain what to do when multiple providers are involved.\nAnalyze all documentation to determine medical necessity for critical care
URL:https://www.thehaugengroup.com/event/speaking-engagement-asking-critical-questions-an-in-depth-review-of-profee-critical-care/
LOCATION:Harper College\, 1200 West Algonquin Road\, Palatine\, IL\, 60067
CATEGORIES:Speaking Engagement
END:VEVENT
END:VCALENDAR